BEGIN:VCALENDAR
PRODID:-//94//NONSGML OSP//PT
VERSION:2.0
BEGIN:VEVENT
UID:20260420T123643UTC-676334JWZk@94
DTSTAMP:20260420T120442Z
DESCRIPTION:Direção musical de Jaime Martín  com Johannes Moser no Violonce
 lo.\n
DTSTART:20160918T170000
LOCATION:Centro Cultural de Belém\, Lisboa
SUMMARY:Sintonias
TRANSP:TRANSPARENT
URL:https://mail.orquestrasinfonicaportuguesa.pt/eventos/sintonias-lutoslaw
 ski-e-bruckner/
END:VEVENT
BEGIN:VEVENT
UID:20260420T123643UTC-67755NrcVf@94
DTSTAMP:20260420T120442Z
DESCRIPTION:CARMEN de Georges Bizet com libreto por Henri Meilhac e Ludovic
  Halévy.\n
DTSTART:20161006T200000
LOCATION:Teatro Nacional de São Carlos\, Lisboa
SUMMARY:Carmen de Georges Bizet
TRANSP:TRANSPARENT
URL:https://mail.orquestrasinfonicaportuguesa.pt/eventos/carmen-de-georges-
 bizet/
END:VEVENT
BEGIN:VEVENT
UID:20260420T123643UTC-6786UUutz7@94
DTSTAMP:20260420T120442Z
DESCRIPTION:CARMEN de Georges Bizet com libreto por Henri Meilhac e Ludovic
  Halévy.\n
DTSTART:20161008T160000
LOCATION:Teatro Nacional de São Carlos\, Lisboa
SUMMARY:Carmen de Georges Bizet
TRANSP:TRANSPARENT
URL:https://mail.orquestrasinfonicaportuguesa.pt/eventos/carmen-de-georges-
 bizet/
END:VEVENT
BEGIN:VEVENT
UID:20260420T123643UTC-6797JC3pwG@94
DTSTAMP:20260420T120442Z
DESCRIPTION:CARMEN de Georges Bizet com libreto por Henri Meilhac e Ludovic
  Halévy.\n
DTSTART:20161010T200000
LOCATION:Teatro Nacional de São Carlos\, Lisboa
SUMMARY:Carmen de Georges Bizet
TRANSP:TRANSPARENT
URL:https://mail.orquestrasinfonicaportuguesa.pt/eventos/carmen-de-georges-
 bizet/
END:VEVENT
BEGIN:VEVENT
UID:20260420T123643UTC-6808eiN8V5@94
DTSTAMP:20260420T120442Z
DESCRIPTION:CARMEN de Georges Bizet com libreto por Henri Meilhac e Ludovic
  Halévy.\n
DTSTART:20161012T200000
LOCATION:Teatro Nacional de São Carlos\, Lisboa
SUMMARY:Carmen de Georges Bizet
TRANSP:TRANSPARENT
URL:https://mail.orquestrasinfonicaportuguesa.pt/eventos/carmen-de-georges-
 bizet/
END:VEVENT
BEGIN:VEVENT
UID:20260420T123643UTC-6819WxB61L@94
DTSTAMP:20260420T120442Z
DESCRIPTION:CARMEN de Georges Bizet com libreto por Henri Meilhac e Ludovic
  Halévy.\n
DTSTART:20161014T200000
LOCATION:Teatro Nacional de São Carlos\, Lisboa
SUMMARY:Carmen de Georges Bizet
TRANSP:TRANSPARENT
URL:https://mail.orquestrasinfonicaportuguesa.pt/eventos/carmen-de-georges-
 bizet/
END:VEVENT
BEGIN:VEVENT
UID:20260420T123643UTC-6829GOmuU5@94
DTSTAMP:20260420T120442Z
DESCRIPTION:Com a coordenação de David Harrison. Entrada livre.\n
DTSTART:20161008T110000
LOCATION:Estúdios Victor Córdon\, Lisboa
SUMMARY:Workshop Carmen
TRANSP:TRANSPARENT
URL:https://mail.orquestrasinfonicaportuguesa.pt/eventos/workshop-carmen/
END:VEVENT
BEGIN:VEVENT
UID:20260420T123643UTC-68396f0g5f@94
DTSTAMP:20260420T120442Z
DESCRIPTION:Concerto ilustrado OSP + JAS (Portugal) inserido no Festival Bi
 g Bang.\n
DTSTART:20161021T170000
LOCATION:Centro Cultural de Belém\, Lisboa
SUMMARY:A Areia Nunca Cai no Mesmo Sítio
TRANSP:TRANSPARENT
URL:https://mail.orquestrasinfonicaportuguesa.pt/eventos/a-areia-nunca-cai-
 no-mesmo-sitio/
END:VEVENT
BEGIN:VEVENT
UID:20260420T123643UTC-68503HMIuX@94
DTSTAMP:20260420T120442Z
DESCRIPTION:Concerto ilustrado OSP + JAS (Portugal) inserido no Festival Bi
 g Bang.\n
DTSTART:20161022T170000
LOCATION:Centro Cultural de Belém\, Lisboa
SUMMARY:A Areia Nunca Cai no Mesmo Sítio
TRANSP:TRANSPARENT
URL:https://mail.orquestrasinfonicaportuguesa.pt/eventos/a-areia-nunca-cai-
 no-mesmo-sitio/
END:VEVENT
BEGIN:VEVENT
UID:20260420T123643UTC-6861r4bJvO@94
DTSTAMP:20260420T120442Z
DESCRIPTION:Simone Lamsma\, violino. Pedro Neves\, direção musical.\n
DTSTART:20161030T170000
LOCATION:Centro Cultural de Belém\, Lisboa
SUMMARY:Mosaico
TRANSP:TRANSPARENT
URL:https://mail.orquestrasinfonicaportuguesa.pt/eventos/mosaico-pinho-varg
 as-mendelssohn-e-brahms/
END:VEVENT
BEGIN:VEVENT
UID:20260420T123643UTC-6872OrAcUU@94
DTSTAMP:20260420T120442Z
DESCRIPTION:Oedipus Rex de Igor Stravinsky com Libreto de Jean Cocteau/Abbé
  Jean Daniélou.\n
DTSTART:20161110T200000
LOCATION:Teatro Nacional de São Carlos\, Lisboa
SUMMARY:Oedipus Rex
TRANSP:TRANSPARENT
URL:https://mail.orquestrasinfonicaportuguesa.pt/eventos/oedipus-rex/
END:VEVENT
BEGIN:VEVENT
UID:20260420T123643UTC-68820JlVJ2@94
DTSTAMP:20260420T120442Z
DESCRIPTION:Oedipus Rex de Igor Stravinsky com Libreto de Jean Cocteau/Abbé
  Jean Daniélou.\n
DTSTART:20161111T200000
LOCATION:Teatro Nacional de São Carlos\, Lisboa
SUMMARY:Oedipus Rex
TRANSP:TRANSPARENT
URL:https://mail.orquestrasinfonicaportuguesa.pt/eventos/oedipus-rex/
END:VEVENT
BEGIN:VEVENT
UID:20260420T123643UTC-6893OZAu8V@94
DTSTAMP:20260420T120442Z
DESCRIPTION:Oedipus Rex de Igor Stravinsky com Libreto de Jean Cocteau/Abbé
  Jean Daniélou.\n
DTSTART:20161113T160000
LOCATION:Teatro Nacional de São Carlos\, Lisboa
SUMMARY:Oedipus Rex
TRANSP:TRANSPARENT
URL:https://mail.orquestrasinfonicaportuguesa.pt/eventos/oedipus-rex/
END:VEVENT
BEGIN:VEVENT
UID:20260420T123643UTC-7676Nj2M2v@94
DTSTAMP:20260420T120442Z
DESCRIPTION:Emil Tabakov\, Direção musical.\n
DTSTART:20161119T210000
LOCATION:Fórum Luisa Todi\, Setúbal
SUMMARY:Evocação
TRANSP:TRANSPARENT
URL:https://mail.orquestrasinfonicaportuguesa.pt/eventos/evocacao-luisa-tod
 i/
END:VEVENT
BEGIN:VEVENT
UID:20260420T123643UTC-7687DWs1oO@94
DTSTAMP:20260420T120442Z
DESCRIPTION:Emil Tabakov\, Direção musical.\n\n
DTSTART:20161120T170000
LOCATION:Centro Cultural de Belém\, Lisboa
SUMMARY:Evocação
TRANSP:TRANSPARENT
URL:https://mail.orquestrasinfonicaportuguesa.pt/eventos/evocacao-shostakov
 ich/
END:VEVENT
BEGIN:VEVENT
UID:20260420T123643UTC-7696XNlEBk@94
DTSTAMP:20260420T120442Z
DESCRIPTION:Concerto Comemorativo dos 300 Anos do Patriarcado de Lisboa\n
DTSTART:20161125T210000
LOCATION:Teatro Nacional de São Carlos\, Lisboa
SUMMARY:Concerto Comemorativo dos 300 Anos do Patriarcado de Lisboa
TRANSP:TRANSPARENT
URL:https://mail.orquestrasinfonicaportuguesa.pt/eventos/concerto-comemorat
 ivo-dos-300-anos-do-patriarcado-de-lisboa/
END:VEVENT
BEGIN:VEVENT
UID:20260420T123643UTC-7707GN4Og7@94
DTSTAMP:20260420T120442Z
DESCRIPTION:Direção musical de Natalie Murray Beale.\n
DTSTART:20161203T160000
LOCATION:Teatro Nacional de São Carlos\, Lisboa
SUMMARY:Concerto para Famílias
TRANSP:TRANSPARENT
URL:https://mail.orquestrasinfonicaportuguesa.pt/eventos/concerto-para-fami
 lias/
END:VEVENT
BEGIN:VEVENT
UID:20260420T123643UTC-7717bxeb8C@94
DTSTAMP:20260420T120442Z
DESCRIPTION:Coordenação de Duncan Fox com instrumentistas da Orquestra Sinf
 ónica Portuguesa. Entrada Livre. * Horários: 10h30 e 12h.\n
DTSTART:19700101T000000
LOCATION:Teatro Nacional de São Carlos (Foyer)\, Lisboa
SUMMARY:Papagaio Louro
TRANSP:TRANSPARENT
URL:https://mail.orquestrasinfonicaportuguesa.pt/eventos/papagaio-louro/
END:VEVENT
BEGIN:VEVENT
UID:20260420T123643UTC-7728KcwrC3@94
DTSTAMP:20260420T120443Z
DESCRIPTION:Concerto narrado: o espetáculo A Minha Mão Ganso nasce da vonta
 de de oferecer uma viagem pela música de Ravel\, embrulhada nestas pequena
 s histórias e em imagens projetadas que nos transportam para este universo
 .\n
DTSTART:20161216T180000
LOCATION:Centro Cultural de Belém\, Lisboa
SUMMARY:A Minha Mãe Ganso
TRANSP:TRANSPARENT
URL:https://mail.orquestrasinfonicaportuguesa.pt/eventos/a-minha-mae-ganso/
END:VEVENT
BEGIN:VEVENT
UID:20260420T123643UTC-7740HVv6NW@94
DTSTAMP:20260420T120443Z
DESCRIPTION:Simon Trpceski\, Piano. Direção musical de Pedro Neves.\n
DTSTART:20161218T170000
LOCATION:Centro Cultural de Belém\, Lisboa
SUMMARY:Natal
TRANSP:TRANSPARENT
URL:https://mail.orquestrasinfonicaportuguesa.pt/eventos/natal-ravel-e-tcha
 ikovski/
END:VEVENT
BEGIN:VEVENT
UID:20260420T123643UTC-7750fPRgSn@94
DTSTAMP:20260420T120443Z
DESCRIPTION:com a Orquestra Sinfónica Portuguesa e o Coro do Teatro Naciona
 l de São Carlos. M/6.\n
DTSTART:20170103T210000
LOCATION:Teatro Nacional de São Carlos\, Lisboa
SUMMARY:Concerto de Ano Novo
TRANSP:TRANSPARENT
URL:https://mail.orquestrasinfonicaportuguesa.pt/eventos/concerto-de-ano-no
 vo-2017/
END:VEVENT
BEGIN:VEVENT
UID:20260420T123643UTC-7760gUjcZl@94
DTSTAMP:20260420T120443Z
DESCRIPTION:Christopher Maltman\, Barítono. Direção Musical de Alexander Ve
 dernikov.\n
DTSTART:20170115T170000
LOCATION:Centro Cultural de Belém\, Lisboa
SUMMARY:Continuidade
TRANSP:TRANSPARENT
URL:https://mail.orquestrasinfonicaportuguesa.pt/eventos/continuidade-adams
 -e-mahler/
END:VEVENT
BEGIN:VEVENT
UID:20260420T123643UTC-77703KuNr3@94
DTSTAMP:20260420T120443Z
DESCRIPTION:Mozart e Haydn com Riccardo Minasi e a OSP.\n
DTSTART:20170119T180000
LOCATION:Teatro Nacional de São Carlos  (Salão Nobre)\, Lisboa
SUMMARY:Mozart e Haydn
TRANSP:TRANSPARENT
URL:https://mail.orquestrasinfonicaportuguesa.pt/eventos/mozart-e-haydn/
END:VEVENT
BEGIN:VEVENT
UID:20260420T123643UTC-7780JZ25Lg@94
DTSTAMP:20260420T120443Z
DESCRIPTION:Violino e direção musical de Riccardo Minasi.\n
DTSTART:20170121T180000
LOCATION:Teatro Nacional de São Carlos (Salão Nobre)\, Lisboa
SUMMARY:Haydn\, Rosetti e Paisiello
TRANSP:TRANSPARENT
URL:https://mail.orquestrasinfonicaportuguesa.pt/eventos/haydn-rosetti-e-pa
 isiello/
END:VEVENT
BEGIN:VEVENT
UID:20260420T123643UTC-7791VGEmCV@94
DTSTAMP:20260420T120443Z
DESCRIPTION:Coordenação de Duncan Fox com instrumentistas da Orquestra Sinf
 ónica Portuguesa e solistas do Coro do Teatro Nacional de São Carlos. Entr
 ada Livre. * Horário: 10h30 e 12h\n
DTSTART:19700101T000000
LOCATION:Teatro Nacional de São Carlos (Foyer)\, Lisboa
SUMMARY:Projeto Mozart
TRANSP:TRANSPARENT
URL:https://mail.orquestrasinfonicaportuguesa.pt/eventos/projeto-mozart/
END:VEVENT
BEGIN:VEVENT
UID:20260420T123643UTC-7802Lc3Pt1@94
DTSTAMP:20260420T120443Z
DESCRIPTION:Anna Bolena de Gaetano Donizetti com libreto de Felice Romani.
DTSTART:20170204T200000
LOCATION:Teatro Nacional de São Carlos\, Lisboa
SUMMARY:Anna Bolena
TRANSP:TRANSPARENT
URL:https://mail.orquestrasinfonicaportuguesa.pt/eventos/anna-bolena/
END:VEVENT
BEGIN:VEVENT
UID:20260420T123643UTC-7812tCcvuv@94
DTSTAMP:20260420T120443Z
DESCRIPTION:Anna Bolena de Gaetano Donizetti com libreto de Felice Romani.
DTSTART:20170206T200000
LOCATION:Teatro Nacional de São Carlos\, Lisboa
SUMMARY:Anna Bolena
TRANSP:TRANSPARENT
URL:https://mail.orquestrasinfonicaportuguesa.pt/eventos/anna-bolena/
END:VEVENT
BEGIN:VEVENT
UID:20260420T123643UTC-7822WtiuuP@94
DTSTAMP:20260420T120443Z
DESCRIPTION:Anna Bolena de Gaetano Donizetti com libreto de Felice Romani.
DTSTART:20170209T200000
LOCATION:Teatro Nacional de São Carlos\, Lisboa
SUMMARY:Anna Bolena
TRANSP:TRANSPARENT
URL:https://mail.orquestrasinfonicaportuguesa.pt/eventos/anna-bolena/
END:VEVENT
BEGIN:VEVENT
UID:20260420T123643UTC-7831K9NXvx@94
DTSTAMP:20260420T120443Z
DESCRIPTION:Anna Bolena de Gaetano Donizetti com libreto de Felice Romani.
DTSTART:20170212T160000
LOCATION:Teatro Nacional de São Carlos\, Lisboa
SUMMARY:Anna Bolena
TRANSP:TRANSPARENT
URL:https://mail.orquestrasinfonicaportuguesa.pt/eventos/anna-bolena/
END:VEVENT
BEGIN:VEVENT
UID:20260420T123643UTC-78388uTmXO@94
DTSTAMP:20260420T120443Z
DESCRIPTION:Anna Bolena de Gaetano Donizetti com libreto de Felice Romani.
DTSTART:20170214T200000
LOCATION:Teatro Nacional de São Carlos\, Lisboa
SUMMARY:Anna Bolena
TRANSP:TRANSPARENT
URL:https://mail.orquestrasinfonicaportuguesa.pt/eventos/anna-bolena/
END:VEVENT
BEGIN:VEVENT
UID:20260420T123643UTC-7848pfNj64@94
DTSTAMP:20260420T120443Z
DESCRIPTION:Coordenação de Duncan Fox com instrumentistas da Orquestra Sinf
 ónica Portuguesa. Entrada Livre. * Horário: 10h30 e 12h.\n
DTSTART:19700101T000000
LOCATION:Teatro Nacional de São Carlos (Foyer)\, Lisboa
SUMMARY:As Quatro Estações de Vivaldi
TRANSP:TRANSPARENT
URL:https://mail.orquestrasinfonicaportuguesa.pt/eventos/as-quatro-estacoes
 -de-vivaldi-2/
END:VEVENT
BEGIN:VEVENT
UID:20260420T123643UTC-7859EibUrW@94
DTSTAMP:20260420T120443Z
DESCRIPTION:Direção musical de Pedro Neves. Bilhetes disponíveis em bilhete
 ira@ctalmada.pt.\n
DTSTART:20170218T213000
LOCATION:Teatro Municipal Joaquim Benite\, Almada
SUMMARY:Trânsitos
TRANSP:TRANSPARENT
URL:https://mail.orquestrasinfonicaportuguesa.pt/eventos/transitos-ii/
END:VEVENT
BEGIN:VEVENT
UID:20260420T123643UTC-7870jf4r1R@94
DTSTAMP:20260420T120443Z
DESCRIPTION:Direção musical de Pedro Neves.\n
DTSTART:20170219T170000
LOCATION:Centro Cultural de Belém\, Lisboa
SUMMARY:Trânsitos
TRANSP:TRANSPARENT
URL:https://mail.orquestrasinfonicaportuguesa.pt/eventos/transitos-cherubin
 i-tinoco-e-mendelssohn/
END:VEVENT
BEGIN:VEVENT
UID:20260420T123643UTC-7879oXdJ89@94
DTSTAMP:20260420T120443Z
DESCRIPTION:Dia 20 de fevereiro de 2017\, no Centro Cultural de Belém: EsCó
 cia\, concerto comentado com direção musical de Pedro Neves.\n
DTSTART:20170220T110000
LOCATION:Centro Cultural de Belém\, Lisboa
SUMMARY:EsCócia
TRANSP:TRANSPARENT
URL:https://mail.orquestrasinfonicaportuguesa.pt/eventos/escocia/
END:VEVENT
BEGIN:VEVENT
UID:20260420T123643UTC-7889UiNiVd@94
DTSTAMP:20260420T120443Z
DESCRIPTION:Tristan Und Isolde de Richard Wagner. Libreto de Richard Wagner
 .\n
DTSTART:20170309T180000
LOCATION:Centro Cultural de Belém (Grande Auditório)\, Lisboa
SUMMARY:Tristan Und Isolde de Richard Wagner
TRANSP:TRANSPARENT
URL:https://mail.orquestrasinfonicaportuguesa.pt/eventos/tristan-und-isolde
 -de-richard-wagner/
END:VEVENT
BEGIN:VEVENT
UID:20260420T123643UTC-7902C4FvBl@94
DTSTAMP:20260420T120443Z
DESCRIPTION:Tristan Und Isolde de Richard Wagner. Libreto de Richard Wagner
 .\n
DTSTART:20170312T150000
LOCATION:Centro Cultural de Belém (Grande Auditório)\, Lisboa
SUMMARY:Tristan Und Isolde de Richard Wagner
TRANSP:TRANSPARENT
URL:https://mail.orquestrasinfonicaportuguesa.pt/eventos/tristan-und-isolde
 -de-richard-wagner/
END:VEVENT
BEGIN:VEVENT
UID:20260420T123643UTC-7912ChVMcA@94
DTSTAMP:20260420T120443Z
DESCRIPTION:Coordenação de Duncan Fox com instrumentistas da Orquestra Sinf
 ónica Portuguesa. Entrada Livre. * Horário: 10h30 e 12h.\n
DTSTART:19700101T000000
LOCATION:Teatro Nacional de São Carlos (Foyer)\, Lisboa
SUMMARY:A Loja do Mestre André
TRANSP:TRANSPARENT
URL:https://mail.orquestrasinfonicaportuguesa.pt/eventos/a-loja-do-mestre-a
 ndre/
END:VEVENT
BEGIN:VEVENT
UID:20260420T123643UTC-7923viLDv1@94
DTSTAMP:20260420T120443Z
DESCRIPTION:Entrada livre\, mediante inscrição prévia. Coordenação de David
  Harrison.\n
DTSTART:20170312T110000
LOCATION:Estúdios Victor Córdon\, Lisboa
SUMMARY:Workshop Tristan und Isolde
TRANSP:TRANSPARENT
URL:https://mail.orquestrasinfonicaportuguesa.pt/eventos/workshop-tristan-u
 nd-isolde/
END:VEVENT
BEGIN:VEVENT
UID:20260420T123643UTC-79333XHFUn@94
DTSTAMP:20260420T120443Z
DESCRIPTION:Oboé e Direção Musical por Stefan Schilli com instrumentistas d
 a Orquestra Sinfónica Portuguesa.\n\n
DTSTART:20170316T180000
LOCATION:Teatro Nacional de São Carlos (Salão Nobre)\, Lisboa
SUMMARY:Mozart
TRANSP:TRANSPARENT
URL:https://mail.orquestrasinfonicaportuguesa.pt/eventos/mozart/
END:VEVENT
BEGIN:VEVENT
UID:20260420T123643UTC-7944o28Mea@94
DTSTAMP:20260420T120443Z
DESCRIPTION:Violino com Alexander Stewart e viola com Pedro Saglimbeni Muño
 z. Direção musical de Nuno Coelho da Silva.\n\n\n
DTSTART:20170318T180000
LOCATION:Teatro Nacional de São Carlos (Salão Nobre)\, Lisboa
SUMMARY:Dvorak\, Mozart e Stravinsky
TRANSP:TRANSPARENT
URL:https://mail.orquestrasinfonicaportuguesa.pt/eventos/dvorak-mozart-stra
 vinsky/
END:VEVENT
BEGIN:VEVENT
UID:20260420T123643UTC-8680ExGDSn@94
DTSTAMP:20260420T120443Z
DESCRIPTION:Pagliacci de Ruggero Leoncavallo e Der Zwerg de Alexander von Z
 emlinsky\, com libreto de Ruggero Leoncavallo / Georg Klaren.\n
DTSTART:20170331T200000
LOCATION:Teatro Nacional de São Carlos\, Lisboa
SUMMARY:Pagliacci e Der Zwerg
TRANSP:TRANSPARENT
URL:https://mail.orquestrasinfonicaportuguesa.pt/eventos/pagliacci-e-der-zw
 erg/
END:VEVENT
BEGIN:VEVENT
UID:20260420T123643UTC-8691hUNMWT@94
DTSTAMP:20260420T120443Z
DESCRIPTION:Pagliacci de Ruggero Leoncavallo e Der Zwerg de Alexander von Z
 emlinsky\, com libreto de Ruggero Leoncavallo / Georg Klaren.\n
DTSTART:20170402T160000
LOCATION:Teatro Nacional de São Carlos\, Lisboa
SUMMARY:Pagliacci e Der Zwerg
TRANSP:TRANSPARENT
URL:https://mail.orquestrasinfonicaportuguesa.pt/eventos/pagliacci-e-der-zw
 erg/
END:VEVENT
BEGIN:VEVENT
UID:20260420T123643UTC-8702s2MOaS@94
DTSTAMP:20260420T120443Z
DESCRIPTION:Pagliacci de Ruggero Leoncavallo e Der Zwerg de Alexander von Z
 emlinsky\, com libreto de Ruggero Leoncavallo / Georg Klaren.\n
DTSTART:20170404T200000
LOCATION:Teatro Nacional de São Carlos\, Lisboa
SUMMARY:Pagliacci e Der Zwerg
TRANSP:TRANSPARENT
URL:https://mail.orquestrasinfonicaportuguesa.pt/eventos/pagliacci-e-der-zw
 erg/
END:VEVENT
BEGIN:VEVENT
UID:20260420T123643UTC-87123VUpfJ@94
DTSTAMP:20260420T120443Z
DESCRIPTION:Pagliacci de Ruggero Leoncavallo e Der Zwerg de Alexander von Z
 emlinsky\, com libreto de Ruggero Leoncavallo / Georg Klaren.\n
DTSTART:20170406T200000
LOCATION:Teatro Nacional de São Carlos\, Lisboa
SUMMARY:Pagliacci e Der Zwerg
TRANSP:TRANSPARENT
URL:https://mail.orquestrasinfonicaportuguesa.pt/eventos/pagliacci-e-der-zw
 erg/
END:VEVENT
BEGIN:VEVENT
UID:20260420T123643UTC-87233dVtEl@94
DTSTAMP:20260420T120443Z
DESCRIPTION:Pagliacci de Ruggero Leoncavallo e Der Zwerg de Alexander von Z
 emlinsky\, com libreto de Ruggero Leoncavallo / Georg Klaren.\n
DTSTART:20170408T200000
LOCATION:Teatro Nacional de São Carlos\, Lisboa
SUMMARY:Pagliacci e Der Zwerg
TRANSP:TRANSPARENT
URL:https://mail.orquestrasinfonicaportuguesa.pt/eventos/pagliacci-e-der-zw
 erg/
END:VEVENT
BEGIN:VEVENT
UID:20260420T123643UTC-8735hB3PW6@94
DTSTAMP:20260420T120443Z
DESCRIPTION:Direção musical de João Paulo Santos com Henning Kraggerud no V
 iolino.\n
DTSTART:20170409T170000
LOCATION:Centro Cultural de Belém\, Lisboa
SUMMARY:Espiritualidade
TRANSP:TRANSPARENT
URL:https://mail.orquestrasinfonicaportuguesa.pt/eventos/espiritualidade-be
 ethoven-e-macmillan/
END:VEVENT
BEGIN:VEVENT
UID:20260420T123643UTC-8745CrXJD6@94
DTSTAMP:20260420T120443Z
DESCRIPTION:Dias da Música no CCB: &#8220\;Dos Livros para a Música | Perso
 nagens Intemporais&#8221\;\, com a Orquestra Sinfónica Portuguesa. Direção
  musical de Graeme Jenckins.\n
DTSTART:20170429T180000
LOCATION:Centro Cultural de Belém\, Lisboa
SUMMARY:Dias da Música I
TRANSP:TRANSPARENT
URL:https://mail.orquestrasinfonicaportuguesa.pt/eventos/dias-da-musica/
END:VEVENT
BEGIN:VEVENT
UID:20260420T123643UTC-8757N37oxo@94
DTSTAMP:20260420T120443Z
DESCRIPTION:De Henry Purcell. Coordenação de Duncan Fox\; com instrumentist
 as da Orquestra Sinfónica Portuguesa. Entrada Livre. * Horário: 10h30 e 12
 h.\n
DTSTART:19700101T000000
LOCATION:Estúdios Victor Córdon\, Lisboa
SUMMARY:Dido e Eneias
TRANSP:TRANSPARENT
URL:https://mail.orquestrasinfonicaportuguesa.pt/eventos/dido-e-eneias/
END:VEVENT
BEGIN:VEVENT
UID:20260420T123643UTC-8768zLoFCU@94
DTSTAMP:20260420T120443Z
DESCRIPTION:Dias da Música no CCB: “Candide ou o Otimismo”\, com a Orquestr
 a Sinfónica Portuguesa e o Coro do Teatro Nacional de São Carlos. Direção 
 musical de João Paulo Santos.\n
DTSTART:20170430T213000
LOCATION:Centro Cultural de Belém\, Lisboa
SUMMARY:Dias da Música II
TRANSP:TRANSPARENT
URL:https://mail.orquestrasinfonicaportuguesa.pt/eventos/dias-da-musica-ii/
END:VEVENT
BEGIN:VEVENT
UID:20260420T123643UTC-8779CIDUJi@94
DTSTAMP:20260420T120443Z
DESCRIPTION:Direção musical de Rune Bergmann.\n
DTSTART:20170504T210000
LOCATION:Casa da Música - Sala Suggia\, Porto
SUMMARY:Concerto na Casa da Música
TRANSP:TRANSPARENT
URL:https://mail.orquestrasinfonicaportuguesa.pt/eventos/ponte-britten-e-sc
 humann/
END:VEVENT
BEGIN:VEVENT
UID:20260420T123643UTC-8788suzwpj@94
DTSTAMP:20260420T120443Z
DESCRIPTION:Direção Musical de Alan Buribayev com Horário Ferreira no Clari
 nete.\n
DTSTART:20170514T170000
LOCATION:Centro Cultural de Belém\, Lisboa
SUMMARY:Reconhecimento
TRANSP:TRANSPARENT
URL:https://mail.orquestrasinfonicaportuguesa.pt/eventos/reconhecimento-clo
 tilde-rosa-beethoven-e-tchaikovski/
END:VEVENT
BEGIN:VEVENT
UID:20260420T123643UTC-8799nbFVGW@94
DTSTAMP:20260420T120443Z
DESCRIPTION:Dia 15 de maio de 2017\, no Centro Cultural de Belém: Pathétiqu
 e\, concerto comentado com direção musical de Alan Buribayev.\n
DTSTART:20170515T110000
LOCATION:Centro Cultural de Belém\, Lisboa
SUMMARY:Pathétique
TRANSP:TRANSPARENT
URL:https://mail.orquestrasinfonicaportuguesa.pt/eventos/pathetique/
END:VEVENT
BEGIN:VEVENT
UID:20260420T123643UTC-8809CDgHx9@94
DTSTAMP:20260420T120443Z
DESCRIPTION:Peter Grimes de Benjamin Britten com libreto de Montagu Slater.
DTSTART:20170530T200000
LOCATION:Teatro Nacional de São Carlos\, Lisboa
SUMMARY:Peter Grimes de Benjamin Britten
TRANSP:TRANSPARENT
URL:https://mail.orquestrasinfonicaportuguesa.pt/eventos/peter-grimes-de-be
 njamin-britten/
END:VEVENT
BEGIN:VEVENT
UID:20260420T123643UTC-8820AcsA2x@94
DTSTAMP:20260420T120443Z
DESCRIPTION:Peter Grimes de Benjamin Britten com libreto de Montagu Slater.
DTSTART:20170601T200000
LOCATION:Teatro Nacional de São Carlos\, Lisboa
SUMMARY:Peter Grimes de Benjamin Britten
TRANSP:TRANSPARENT
URL:https://mail.orquestrasinfonicaportuguesa.pt/eventos/peter-grimes-de-be
 njamin-britten/
END:VEVENT
BEGIN:VEVENT
UID:20260420T123643UTC-8830soJXxV@94
DTSTAMP:20260420T120443Z
DESCRIPTION:Peter Grimes de Benjamin Britten com libreto de Montagu Slater.
DTSTART:20170603T160000
LOCATION:Teatro Nacional de São Carlos\, Lisboa
SUMMARY:Peter Grimes de Benjamin Britten
TRANSP:TRANSPARENT
URL:https://mail.orquestrasinfonicaportuguesa.pt/eventos/peter-grimes-de-be
 njamin-britten/
END:VEVENT
BEGIN:VEVENT
UID:20260420T123643UTC-8840VWwgzI@94
DTSTAMP:20260420T120443Z
DESCRIPTION:Peter Grimes de Benjamin Britten com libreto de Montagu Slater.
DTSTART:20170605T200000
LOCATION:Teatro Nacional de São Carlos\, Lisboa
SUMMARY:Peter Grimes de Benjamin Britten
TRANSP:TRANSPARENT
URL:https://mail.orquestrasinfonicaportuguesa.pt/eventos/peter-grimes-de-be
 njamin-britten/
END:VEVENT
BEGIN:VEVENT
UID:20260420T123643UTC-88500RH8Pn@94
DTSTAMP:20260420T120443Z
DESCRIPTION:Peter Grimes de Benjamin Britten com libreto de Montagu Slater.
DTSTART:20170607T200000
LOCATION:Teatro Nacional de São Carlos\, Lisboa
SUMMARY:Peter Grimes de Benjamin Britten
TRANSP:TRANSPARENT
URL:https://mail.orquestrasinfonicaportuguesa.pt/eventos/peter-grimes-de-be
 njamin-britten/
END:VEVENT
BEGIN:VEVENT
UID:20260420T123643UTC-8861hMU1so@94
DTSTAMP:20260420T120443Z
DESCRIPTION:Com a coordenação de David Harrison. Entrada livre.\n
DTSTART:20170603T110000
LOCATION:Estúdios Victor Córdon\, Lisboa
SUMMARY:Workshop Peter Grimes
TRANSP:TRANSPARENT
URL:https://mail.orquestrasinfonicaportuguesa.pt/eventos/workshop-peter-gri
 mes/
END:VEVENT
BEGIN:VEVENT
UID:20260420T123643UTC-8871B1UovX@94
DTSTAMP:20260420T120443Z
DESCRIPTION:Autoria de Mário Franco e Duncan Fox com músicos da Orquestra S
 infónica Portuguesa e bailarinos da Companhia Nacional de Bailado. Entrada
  Livre. * Horário: 10h30 e 12h.\n
DTSTART:19700101T000000
LOCATION:Teatro Nacional de São Carlos (Salão Nobre)\, Lisboa
SUMMARY:Kamiyo do Rio
TRANSP:TRANSPARENT
URL:https://mail.orquestrasinfonicaportuguesa.pt/eventos/kamiyo-do-rio/
END:VEVENT
BEGIN:VEVENT
UID:20260420T123643UTC-88821us5fu@94
DTSTAMP:20260420T120443Z
DESCRIPTION:Nas noites quentes de Verão e ao ar livre\, o Festival ao Largo
 \, na sua já 9ª edição\, festejará\, uma vez mais\, as artes teatrais\, o 
 canto\, a música e a dança.\n
DTSTART:19700101T000000
LOCATION:Largo de São Carlos\, Lisboa
SUMMARY:Festival ao Largo 2017
TRANSP:TRANSPARENT
URL:https://mail.orquestrasinfonicaportuguesa.pt/eventos/festival-ao-largo-
 2017/
END:VEVENT
BEGIN:VEVENT
UID:20260420T123643UTC-8894u976iF@94
DTSTAMP:20260420T120443Z
DESCRIPTION:Nas noites quentes de Verão e ao ar livre\, o Festival ao Largo
 \, na sua já 9ª edição\, festejará\, uma vez mais\, as artes teatrais\, o 
 canto\, a música e a dança.\n
DTSTART:19700101T000000
LOCATION:Largo de São Carlos\, Lisboa
SUMMARY:Festival ao Largo 2017
TRANSP:TRANSPARENT
URL:https://mail.orquestrasinfonicaportuguesa.pt/eventos/festival-ao-largo-
 2017/
END:VEVENT
END:VCALENDAR
